Workbook
Name _authorName: Начална!$B$26
Name _consolidation: Nomenklaturi!$A$1:$A$2
Name _endDate: Начална!$B$10
Name _pdeReportingDate: Начална!$B$11
Name _pdeTypeList: Nomenklaturi!$A$5:$A$9
Name _secType: Nomenklaturi!$A$11:$A$13
Name authorName: Начална!$AA$3
Name authorPosition: Начална!$B$27
Name endDate: Начална!$AA$1
Name pdeBulstat: Начална!$B$16
Name pdeEmail: Начална!$B$23
Name pdeFax: Начална!$B$22
Name pdeLegalPower: Начална!$B$18
Name pdeManager: Начална!$B$17
Name pdeMediaWeb: Начална!$B$25
Name pdeName: Начална!$B$14
Name pdeOfficialAddress: Начална!$B$19
Name pdePhone: Начална!$B$21
Name pdePostAddress: Начална!$B$20
Name pdeReportingDate: Начална!$AA$2
Name pdeType: Начална!$B$15
Name pdeWeb: Начална!$B$24
Name reportConsolidation: Начална!$A$3
Name startDate: Начална!$B$9

Sheet Начална
A1: СПРАВКИ | Z1: 1 | AA1: =IF(ISBLANK(_endDate),"",_endDate) -> 46022
A2: уведомления - първо тримесечие | Z2: 2 | AA2: =IF(ISBLANK(_pdeReportingDate),"",_pdeReportingDate) -> 46038
A3: на индивидуална основа | Z3: 3 | AA3: =IF(ISBLANK(_authorName),"",_authorName) -> Стефка Георгиева Маркова
A4: по чл. 14 от Наредба № 2
A5: за публични дружества, други емитенти на ценни книжа, акционерни дружества със специална инвестиционна цел
A8: Данни за отчетния период
A9: Начална дата: | B9: 45658
A10: Крайна дата: | B10: 46022
A11: Дата на съставяне: | B11: 46038
A13: Данни за лицето
A14: Наименование на лицето: | B14: "ЕМКА" АД
A15: Тип лице: | B15: Публично дружество
A16: ЕИК: | B16: 107001173
A17: Представляващ/и: | B17: Теодор Недев Татев
A18: Начин на представляване: | B18: Прокурист
A19: Адрес на управление: | B19: гр.Севлиево, ул."Никола Петков" 30
A20: Адрес за кореспонденция: | B20: гр.Севлиево, ул."Никола Петков" 30
A21: Телефон: | B21: 0675 31320
A22: Факс: | B22: 0675 32870
A23: E-mail: | B23: stefka.markova@emka-bg.com
A24: Уеб сайт: | B24: www.emka-bg.com
A25: Медия: | B25: https://extri.bg/
... A28: Версия на шаблона: | B28: 1.0
A30: * Последна актуализация месец декември 2021г.

Sheet 1-Баланс
A1: СЧЕТОВОДЕН БАЛАНС
A2: =CONCATENATE("(",LOWER(reportConsolidation),")") -> (на индивидуална основа)
A4: =CONCATENATE("на ",UPPER(pdeName)) -> на "ЕМКА" АД
A5: =CONCATENATE("ЕИК по БУЛСТАТ: ", pdeBulstat) -> ЕИК по БУЛСТАТ: 107001173
A6: =CONCATENATE("към ",TEXT(endDate,"dd.mm.yyyy")," г.") -> към 31.12.2025 г.
H7: (в хил.лева)
A8: АКТИВИ | B8: Код на реда | C8: Текущ период | D8: Предходен период | E8: СОБСТВЕН КАПИТАЛ, МАЛЦИНСТВЕНО УЧАСТИЕ И ПАСИВИ | F8: Код на реда | G8: Текущ период | H8: Предходен период
A9: а | B9: б | C9: 1 | D9: 2 | E9: а | F9: б | G9: 1 | H9: 2
A10: А. НЕТЕКУЩИ АКТИВИ | E10: А. СОБСТВЕН КАПИТАЛ
A11: I. Имоти, машини, съоръжения и оборудване | E11: I. Основен капитал
A12: 1. Земи (терени ) | B12: 1-0011 | C12: 772 | D12: 772 | E12: Записан и внесен капитал т.ч.: | F12: 1-0411 | G12: 43399 | H12: 43399
A13: 2. Сгради и конструкции | B13: 1-0012 | C13: 3272 | D13: 3503 | E13: обикновени акции | F13: 1-0411-1 | G13: 43399 | H13: 43399
A14: 3. Машини и оборудване | B14: 1-0013 | C14: 4343 | D14: 4722 | E14: привилегировани акции | F14: 1-0411-2 | G14: 0 | H14: 0
A15: 4. Съоръжения | B15: 1-0014 | C15: 3042 | D15: 2698 | E15: Изкупени собствени обикновени акции | F15: 1-0417 | G15: 0 | H15: 0
A16: 5. Транспортни средства | B16: 1-0015 | C16: 84 | D16: 111 | E16: Изкупени собствени привилегировани акции | F16: 1-0417-1 | G16: 0 | H16: 0
A17: 6. Стопански инвентар | B17: 1-0017-1 | C17: 63 | D17: 61 | E17: Невнесен капитал | F17: 1-0416 | G17: 0 | H17: 0
A18: 7. Разходи за придобиване и ликвидация на дълготрайни материални активи | B18: 1-0018 | C18: 903 | D18: 506 | E18: Общо за група І: | F18: 1-0410 | G18: =G12+G15+G16+G17 -> 43399 | H18: =H12+H15+H16+H17 -> 43399
A19: 8. Други | B19: 1-0017 | C19: 159 | D19: 165 | E19: II. Резерви
A20: Общо за група I: | B20: 1-0010 | C20: =SUM(C12:C19) -> 12638 | D20: =SUM(D12:D19) -> 12538 | E20: 1. Премийни резерви при емитиране на ценни книжа | F20: 1-0421 | G20: 335 | H20: 335
A21: II. Инвестиционни имоти | B21: 1-0041 | C21: 187 | D21: 204 | E21: 2. Резерв от последващи оценки на активите и пасивите | F21: 1-0422 | G21: 0 | H21: 0
A22: III. Биологични активи | B22: 1-0016 | C22: 0 | D22: 0 | E22: 3. Целеви резерви, в т.ч.: | F22: 1-0423 | G22: =SUM(G23:G25) -> 4005 | H22: =SUM(H23:H25) -> 4005
A23: IV. Нематериални активи | E23: общи резерви | F23: 1-0424 | G23: 4005 | H23: 4005
A24: 1. Права върху собственост | B24: 1-0021 | D24: 0 | E24: специализирани резерви | F24: 1-0425 | G24: 0 | H24: 0
A25: 2. Програмни продукти | B25: 1-0022 | C25: 119 | D25: 112 | E25: други резерви | F25: 1-0426 | G25: 0 | H25: 0
A26: 3. Продукти от развойна дейност | B26: 1-0023 | C26: 0 | D26: 0 | E26: Общо за група II: | F26: 1-0420 | G26: =G20+G21+G22 -> 4340 | H26: =H20+H21+H22 -> 4340
A27: 4. Други | B27: 1-0024 | C27: 12 | D27: 15 | E27: III. Финансов резултат
A28: Общо за група IV: | B28: 1-0020 | C28: =SUM(C24:C27) -> 131 | D28: =SUM(D24:D27) -> 127 | E28: 1. Натрупана печалба (загуба) в т.ч.: | F28: 1-0451 | G28: =SUM(G29:G31) -> 14786 | H28: =SUM(H29:H31) -> 9920
E29: неразпределена печалба | F29: 1-0452 | G29: 14786 | H29: 9920
A30: V. Търговска репутация | E30: непокрита загуба | F30: 1-0453 | G30: 0 | H30: 0
A31: 1. Положителна репутация | B31: 1-0051 | C31: 0 | D31: 0 | E31: еднократен ефект от промени в счетоводната политика | F31: 1-0451-1 | G31: 0 | H31: 0
A32: 2. Отрицателна репутация | B32: 1-0052 | C32: 0 | D32: 0 | E32: 2. Текуща печалба | F32: 1-0454 | G32: 9996 | H32: 8521
A33: Общо за група V: | B33: 1-0050 | C33: =C31+C32 -> 0 | D33: =D31+D32 -> 0 | E33: 3. Текуща загуба | F33: 1-0455 | G33: 0 | H33: 0
A34: VI. Финансови активи | E34: Общо за група III: | F34: 1-0450 | G34: =G28+G32+G33 -> 24782 | H34: =H28+H32+H33 -> 18441
A35: 1. Инвестиции в: | B35: 1-0031 | C35: =SUM(C36:C39) -> 805 | D35: =SUM(D36:D39) -> 805
A36: дъщерни предприятия | B36: 1-0032 | C36: 0 | D36: 0
A37: смесени предприятия | B37: 1-0033 | C37: 0 | D37: 0 | E37: ОБЩО ЗА РАЗДЕЛ "А" (I+II+III): | F37: 1-0400 | G37: =G26+G18+G34 -> 72521 | H37: =H26+H18+H34 -> 66180
A38: асоциирани предприятия | B38: 1-0034 | C38: 0 | D38: 0
A39: други предприятия | B39: 1-0035 | C39: 805 | D39: 805
A40: 2. Държани до настъпване на падеж | B40: 1-0042 | C40: =C41+C42+C44 -> 0 | D40: =D41+D42+D44 -> 0 | E40: Б. МАЛЦИНСТВЕНО УЧАСТИЕ | F40: 1-0400-1 | G40: 0 | H40: 0
A41: държавни ценни книжа | B41: 1-0042-1 | C41: 0 | D41: 0
...

Sheet 2-Отчет за доходите
A1: ОТЧЕТ ЗА ДОХОДИТЕ
A2: =CONCATENATE("(",LOWER(reportConsolidation),")") -> (на индивидуална основа)
A4: =CONCATENATE("на ",UPPER(pdeName)) -> на "ЕМКА" АД
A5: =CONCATENATE("ЕИК по БУЛСТАТ: ", pdeBulstat) -> ЕИК по БУЛСТАТ: 107001173
A6: =CONCATENATE("към ",TEXT(endDate,"dd.mm.yyyy")," г.") -> към 31.12.2025 г.
H7: (в хил.лева)
A8: РАЗХОДИ | B8: Код на реда | C8: Текущ период | D8: Предходен период | E8: ПРИХОДИ | F8: Код на реда | G8: Текущ период | H8: Предходен период
A9: а | B9: б | C9: 1 | D9: 2 | E9: а | F9: б | G9: 1 | H9: 2
A10: А. Разходи за дейността | E10: А. Приходи от дейността
A11: I. Разходи по икономически елементи | E11: I. Нетни приходи от продажби на:
A12: 1. Разходи за материали | B12: 2-1120 | C12: 141963 | D12: 128562 | E12: 1. Продукция | F12: 2-1551 | G12: 164300 | H12: 153063
A13: 2. Разходи за външни услуги | B13: 2-1130 | C13: 5367 | D13: 4852 | E13: 2. Стоки | F13: 2-1552 | G13: 176 | H13: 164
A14: 3. Разходи за амортизации | B14: 2-1160 | C14: 1805 | D14: 2244 | E14: 3. Услуги | F14: 2-1560 | G14: 60 | H14: 73
A15: 4. Разходи за възнаграждения | B15: 2-1140 | C15: 7947 | D15: 7307 | E15: 4. Други | F15: 2-1556 | G15: 3357 | H15: 2579
A16: 5. Разходи за осигуровки | B16: 2-1150 | C16: 1443 | D16: 1352 | E16: Общо за група I: | F16: 2-1610 | G16: =SUM(G12:G15) -> 167893 | H16: =SUM(H12:H15) -> 155879
A17: 6. Балансова стойност на продадени активи (без продукция) | B17: 2-1010 | C17: 651 | D17: 317
A18: 7. Изменение на запасите от продукция и незавършено производство | B18: 2-1030 | C18: -1546 | D18: 1416 | E18: II. Приходи от финансирания | F18: 2-1620 | G18: 186 | H18: 207
A19: 8. Други, в т.ч.: | B19: 2-1170 | C19: 801 | D19: 860 | E19: в т.ч. от правителството | F19: 2-1621 | G19: 33 | H19: 0
A20: обезценка на активи | B20: 2-1171
A21: провизии | B21: 2-1172 | E21: III. Финансови приходи
A22: Общо за група I: | B22: 2-1100 | C22: =SUM(C12:C18)+C19 -> 158431 | D22: =SUM(D12:D18)+D19 -> 146910 | E22: 1. Приходи от лихви | F22: 2-1710 | G22: 181 | H22: 106
E23: 2. Приходи от дивиденти | F23: 2-1721 | G23: 167 | H23: 167
A24: II. Финансови разходи | E24: 3. Положителни разлики от операции с финансови активи и инструменти | F24: 2-1730 | G24: 0 | H24: 0
A25: 1. Разходи за лихви | B25: 2-1210 | C25: 0 | D25: 0 | E25: 4. Положителни разлики от промяна на валутни курсове | F25: 2-1740 | G25: 0 | H25: 0
A26: 2. Отрицателни разлики от операции с финансови активи и инструменти | B26: 2-1220 | C26: 0 | D26: 0 | E26: 5. Други | F26: 2-1745 | G26: 0 | H26: 0
A27: 3. Отрицателни разлики от промяна на валутни курсове | B27: 2-1230 | C27: 0 | D27: 0 | E27: Общо за група III: | F27: 2-1700 | G27: =SUM(G22:G26) -> 348 | H27: =SUM(H22:H26) -> 273
A28: 4. Други | B28: 2-1240 | D28: 0
A29: Общо за група II: | B29: 2-1200 | C29: =SUM(C25:C28) -> 0 | D29: =SUM(D25:D28) -> 0
A31: Б. Общо разходи за дейността (I + II) | B31: 2-1300 | C31: =C29+C22 -> 158431 | D31: =D29+D22 -> 146910 | E31: Б. Общо приходи от дейността (I + II + III): | F31: 2-1600 | G31: =G16+G18+G27 -> 168427 | H31: =H16+H18+H27 -> 156359
A33: В. Печалба от дейността | B33: 2-1310 | C33: =IF((G31-C31)>0,G31-C31,0) -> 9996 | D33: =IF((H31-D31)>0,H31-D31,0) -> 9449 | E33: В. Загуба от дейността | F33: 2-1810 | G33: =IF((C31-G31)>0,C31-G31,0) -> 0 | H33: =IF((D31-H31)>0,D31-H31,0) -> 0
A34: III. Дял от печалбата на асоциирани и съвместни предприятия | B34: 2-1250-1 | C34: 0 | D34: 0 | E34: IV. Дял от загубата на асоциирани и съвместни предприятия | F34: 2-1810-1
A35: IV. Извънредни разходи | B35: 2-1250 | C35: 0 | D35: 0 | E35: V. Извънредни приходи | F35: 2-1750
A36: Г. Общо разходи (Б+ III +IV) | B36: 2-1350 | C36: =C31-C34+C35 -> 158431 | D36: =D31-D34+D35 -> 146910 | E36: Г. Общо приходи (Б + IV + V) | F36: 2-1800 | G36: =G35-G34+G31 -> 168427 | H36: =H35-H34+H31 -> 156359
A37: Д. Печалба преди облагане с данъци | B37: 2-1400 | C37: =IF((G36-C36)>0,G36-C36,0) -> 9996 | D37: =IF((H36-D36)>0,H36-D36,0) -> 9449 | E37: Д. Загуба преди облагане с данъци | F37: 2-1850 | G37: =IF((C36-G36)>0,C36-G36,0) -> 0 | H37: =IF((D36-H36)>0,D36-H36,0) -> 0
A38: V. Разходи за данъци | B38: 2-1450 | C38: =C39+C40+C41 -> 0 | D38: =D39+D40+D41 -> 928
A39: 1.Разходи за текущи корпоративни данъци върху печалбата | B39: 2-1451 | D39: 955
A40: 2. Разход /(икономия) на отсрочени корпоративни данъци върху печалбата | B40: 2-1452 | D40: -27
A41: 3. Други | B41: 2-1453 | D41: 0
A42: E. Печалба след облагане с данъци (Д - V) | B42: 2-0454 | C42: =+IF((G36-C36-C38)>0,G36-C36-C38,0) -> 9996 | D42: =+IF((H36-D36-D38)>0,H36-D36-D38,0) -> 8521 | E42: E. Загуба след облагане с данъци (Д + V) | F42: 2-0455 | G42: =IF(G37>0,IF(C38+G37<0,0,C38+G37),IF(C37-C38<0,C38-C37,0)) -> 0 | H42: =IF(H37>0,IF(D38+H37<0,0,D38+H37),IF(D37-D38<0,D38-D37,0)) -> 0
A43: в т.ч. за малцинствено участие | B43: 2-0454-1 | C43: 0 | D43: 0 | E43: в т.ч. за малцинствено участие | F43: 2-0455-1
...

Sheet 3-Отчет за паричния поток
A1: ОТЧЕТ ЗА ПАРИЧНИТЕ ПОТОЦИ ПО ПРЕКИЯ МЕТОД
A2: =CONCATENATE("(",LOWER(reportConsolidation),")") -> (на индивидуална основа)
A4: =CONCATENATE("на ",UPPER(pdeName)) -> на "ЕМКА" АД
A5: =CONCATENATE("ЕИК по БУЛСТАТ: ", pdeBulstat) -> ЕИК по БУЛСТАТ: 107001173
A6: =CONCATENATE("към ",TEXT(endDate,"dd.mm.yyyy")," г.") -> към 31.12.2025 г.
D7: (в хил.лева)
A8: ПАРИЧНИ ПОТОЦИ | B8: Код на реда | C8: Текущ период | D8: Предходен период
A9: а | B9: б | C9: 1 | D9: 2
A10: А. Парични потоци от оперативна дейност
A11: 1. Постъпления от клиенти | B11: 3-2201 | C11: 172725 | D11: 165800
A12: 2. Плащания на доставчици | B12: 3-2201-1 | C12: -180474 | D12: -160277
A13: 3. Плащания/постъпления, свързани с финансови активи, държани с цел търговия | B13: 3-2202 | D13: 0
A14: 4. Плащания, свързани с възнаграждения | B14: 3-2203 | C14: -9232 | D14: -8665
A15: 5. Платени /възстановени данъци (без корпоративен данък върху печалбата) | B15: 3-2206 | C15: 17729 | D15: 14974
A16: 6. Платени корпоративни данъци върху печалбата | B16: 3-2206-1 | C16: -950 | D16: -949
A17: 7. Получени лихви | B17: 3-2204 | C17: 0 | D17: 0
A18: 8. Платени банкови такси и лихви върху краткосрочни заеми за оборотни средства | B18: 3-2204-1 | C18: 0 | D18: 0
A19: 9. Курсови разлики | B19: 3-2205 | C19: 0 | D19: 0
A20: 10. Други постъпления /плащания от оперативна дейност | B20: 3-2208 | C20: -395 | D20: -863
A21: Нетен паричен поток от оперативна дейност (А): | B21: 3-2200 | C21: =SUM(C11:C20) -> -597 | D21: =SUM(D11:D20) -> 10020
A22: Б. Парични потоци от инвестиционна дейност
A23: 1. Покупка на дълготрайни активи | B23: 3-2301 | C23: -1225 | D23: -1464
A24: 2. Постъпления от продажба на дълготрайни активи | B24: 3-2301-1 | C24: 0 | D24: 0
A25: 3. Предоставени заеми | B25: 3-2302 | C25: 0 | D25: 0
A26: 4. Възстановени (платени) предоставени заеми, в т.ч. по финансов лизинг | B26: 3-2302-1 | C26: 0 | D26: 0
A27: 5. Получени лихви по предоставени заеми | B27: 3-2302-2 | C27: 0 | D27: 0
A28: 6. Покупка на инвестиции | B28: 3-2302-3 | C28: 0 | D28: 0
A29: 7. Постъпления от продажба на инвестиции | B29: 3-2302-4 | C29: 0 | D29: 0
A30: 8. Получени дивиденти от инвестиции | B30: 3-2303 | C30: 167 | D30: 167
A31: 9. Курсови разлики | B31: 3-2305 | C31: 0 | D31: 0
A32: 10. Други постъпления/ плащания от инвестиционна дейност | B32: 3-2306 | C32: 0 | D32: 0
A33: Нетен поток от инвестиционна дейност (Б): | B33: 3-2300 | C33: =SUM(C23:C32) -> -1058 | D33: =SUM(D23:D32) -> -1297
A34: В. Парични потоци от финансова дейност
A35: 1. Постъпления от емитиране на ценни книжа | B35: 3-2401 | C35: 0 | D35: 0
A36: 2. Плащания при обратно придобиване на ценни книжа | B36: 3-2401-1 | C36: 0 | D36: 0
A37: 3. Постъпления от заеми | B37: 3-2403 | C37: 78 | D37: 200
A38: 4. Платени заеми | B38: 3-2403-1 | C38: -78 | D38: -200
A39: 5. Платени задължения по лизингови договори | B39: 3-2405 | C39: 0 | D39: 0
A40: 6. Платени лихви, такси, комисиони по заеми с инвестиционно предназначение | B40: 3-2404 | C40: 180 | D40: 106
A41: 7 . Изплатени дивиденти | B41: 3-2404-1 | C41: -3628 | D41: -3629
...

Sheet 4-Отчет за собствения капитал
A1: ОТЧЕТ ЗА ИЗМЕНЕНИЯТА В СОБСТВЕНИЯ КАПИТАЛ
A2: =CONCATENATE("(",LOWER(reportConsolidation),")") -> (на индивидуална основа)
A4: =CONCATENATE("на ",UPPER(pdeName)) -> на "ЕМКА" АД
A5: =CONCATENATE("ЕИК по БУЛСТАТ: ", pdeBulstat) -> ЕИК по БУЛСТАТ: 107001173
A6: =CONCATENATE("към ",TEXT(endDate,"dd.mm.yyyy")," г.") -> към 31.12.2025 г.
M7: ( в хил.лева)
A8: ПОКАЗАТЕЛИ | B8: Код на реда | C8: Основен капитал | D8: Резерви | I8: Натрупани печалби/загуби | K8: Резерв от преводи | L8: Общо собствен капитал
D9: премии от емисия (премиен резерв) | E9: резерв от последващи оценки | F9: целеви резерви | I9: печалба | J9: загуба | M9: Малцинствено участие
F10: общи | G10: специали зирани | H10: други
A11: а | C11: 1 | D11: 2 | E11: 3 | F11: 4 | G11: 5 | H11: 6 | I11: 7 | J11: 8 | K11: 9 | L11: 10 | M11: 11
A12: Код на реда - б | C12: 1-0410 | D12: 1-0410 | E12: 1-0422 | F12: 1-0424 | G12: 1-0425 | H12: 1-0426 | I12: 1-0452 | J12: 1-0453 | K12: 4-0426-1 | L12: 1-0400 | M12: 1-0400-1
A13: Салдо в началото на отчетния период | B13: 4-01 | C13: ='1-Баланс'!H18 -> 43399 | D13: ='1-Баланс'!H20 -> 335 | E13: ='1-Баланс'!H21 -> 0 | F13: ='1-Баланс'!H23 -> 4005 | G13: ='1-Баланс'!H24 -> 0 | I13: ='1-Баланс'!H29+'1-Баланс'!H32 -> 18441 | J13: ='1-Баланс'!H30+'1-Баланс'!H33 -> 0 | L13: =SUM(C13:K13) -> 66180 | M13: ='1-Баланс'!H40 -> 0
A14: Промени в началните салда поради: | B14: 4-15 | C14: =C15+C16 -> 0 | D14: =D15+D16 -> 0 | E14: =E15+E16 -> 0 | F14: =F15+F16 -> 0 | G14: =G15+G16 -> 0 | H14: =H15+H16 -> 0 | I14: =I15+I16 -> 0 | J14: =J15+J16 -> 0 | K14: =K15+K16 -> 0 | L14: =SUM(C14:K14) -> 0 | M14: =M15+M16 -> 0
A15: Ефект от промени в счетоводната политика | B15: 4-15-1 | L15: =SUM(C15:K15) -> 0
A16: Фундаментални грешки | B16: 4-15-2 | L16: =SUM(C16:K16) -> 0
A17: Коригирано салдо в началото на отчетния период | B17: 4-01-1 | C17: =C13+C14 -> 43399 | D17: =D13+D14 -> 335 | E17: =E13+E14 -> 0 | F17: =F13+F14 -> 4005 | G17: =G13+G14 -> 0 | H17: =H13+H14 -> 0 | I17: =I13+I14 -> 18441 | J17: =J13+J14 -> 0 | K17: =K13+K14 -> 0 | L17: =SUM(C17:K17) -> 66180 | M17: =M13+M14 -> 0
A18: Нетна печалба/загуба за периода | B18: 4-05 | I18: =+'1-Баланс'!G32 -> 9996 | J18: =+'1-Баланс'!G33 -> 0 | L18: =SUM(C18:K18) -> 9996
A19: 1. Разпределение на печалбата за: | B19: 4-06 | C19: =C20+C21 -> 0 | D19: =D20+D21 -> 0 | E19: =E20+E21 -> 0 | F19: =F20+F21 -> 0 | G19: =G20+G21 -> 0 | H19: =H20+H21 -> 0 | I19: =I20+I21 -> -3655 | J19: =J20+J21 -> 0 | K19: =K20+K21 -> 0 | L19: =SUM(C19:K19) -> -3655 | M19: =M20+M21 -> 0
A20: дивиденти | B20: 4-07 | I20: -3655 | L20: =SUM(C20:K20) -> -3655
A21: други | B21: 4-07-1 | L21: =SUM(C21:K21) -> 0
A22: 2. Покриване на загуби | B22: 4-08 | L22: =SUM(C22:K22) -> 0
A23: 3. Последващи оценки на дълготрайни материални и нематериални активи, в т.ч. | B23: 4-09 | C23: =C24-C25 -> 0 | D23: =D24-D25 -> 0 | E23: =E24-E25 -> 0 | F23: =F24-F25 -> 0 | G23: =G24-G25 -> 0 | H23: =H24-H25 -> 0 | I23: =I24-I25 -> 0 | J23: =J24-J25 -> 0 | K23: =K24-K25 -> 0 | L23: =SUM(C23:K23) -> 0 | M23: =M24-M25 -> 0
A24: увеличения | B24: 4-10 | L24: =SUM(C24:K24) -> 0
A25: намаления | B25: 4-11 | L25: =SUM(C25:K25) -> 0
A26: 4. Последващи оценки на финансови активи и инструменти, в т.ч. | B26: 4-12 | C26: =C27-C28 -> 0 | D26: =D27-D28 -> 0 | E26: =E27-E28 -> 0 | F26: =F27-F28 -> 0 | G26: =G27-G28 -> 0 | H26: =H27-H28 -> 0 | I26: =I27-I28 -> 0 | J26: =J27-J28 -> 0 | K26: =K27-K28 -> 0 | L26: =SUM(C26:K26) -> 0 | M26: =M27-M28 -> 0
A27: увеличения | B27: 4-13 | L27: =SUM(C27:K27) -> 0
A28: намаления | B28: 4-14 | L28: =SUM(C28:K28) -> 0
A29: 5. Ефект от отсрочени данъци | B29: 4-16-1 | L29: =SUM(C29:K29) -> 0
A30: 6. Други изменения | B30: 4-16 | L30: =SUM(C30:K30) -> 0
A31: Салдо към края на отчетния период | B31: 4-17 | C31: =C19+C22+C23+C26+C30+C29+C17+C18 -> 43399 | D31: =D19+D22+D23+D26+D30+D29+D17+D18 -> 335 | E31: =E19+E22+E23+E26+E30+E29+E17+E18 -> 0 | F31: =F19+F22+F23+F26+F30+F29+F17+F18 -> 4005 | G31: =G19+G22+G23+G26+G30+G29+G17+G18 -> 0 | H31: =H19+H22+H23+H26+H30+H29+H17+H18 -> 0 | I31: =I19+I22+I23+I26+I30+I29+I17+I18 -> 24782 | J31: =J19+J22+J23+J26+J30+J29+J17+J18 -> 0 | K31: =K19+K22+K23+K26+K30+K29+K17+K18 -> 0 | L31: =SUM(C31:K31) -> 72521 | M31: =M19+M22+M23+M26+M30+M29+M17+M18 -> 0
A32: 7. Промени от преводи на годишни финансови отчети на предприятия в чужбина | B32: 4-18 | L32: =SUM(C32:K32) -> 0
A33: 8. Промени от преизчисляване на финансови отчети при свръхинфлация | B33: 4-19 | L33: =SUM(C33:K33) -> 0
A34: Собствен капитал към края на отчетния период | B34: 4-20 | C34: =C31+C32+C33 -> 43399 | D34: =D31+D32+D33 -> 335 | E34: =E31+E32+E33 -> 0 | F34: =F31+F32+F33 -> 4005 | G34: =G31+G32+G33 -> 0 | H34: =H31+H32+H33 -> 0 | I34: =I31+I32+I33 -> 24782 | J34: =J31+J32+J33 -> 0 | K34: =K31+K32+K33 -> 0 | L34: =SUM(C34:K34) -> 72521 | M34: =M31+M32+M33 -> 0
A36: Забележка: На ред "Салдо в началото на отчетния период" се посочва салдото, което е в края на предходната година.
A38: Дата на съставяне: | B38: =pdeReportingDate -> 46038
A40: Съставител: | B40: =authorName -> Стефка Георгиева Маркова
A42: Представляващ/и:
B43: .........................
B44: .........................
B45: .........................
...

Sheet Справка 5
A1: СПРАВКА ЗА ИНВЕСТИЦИИТЕ В ДЪЩЕРНИ, СМЕСЕНИ, АСОЦИИРАНИ И ДРУГИ ПРЕДПРИЯТИЯ
A3: =CONCATENATE("на ",UPPER(pdeName)) -> на "ЕМКА" АД
A4: =CONCATENATE("ЕИК по БУЛСТАТ: ", pdeBulstat) -> ЕИК по БУЛСТАТ: 107001173
A5: =CONCATENATE("към ",TEXT(endDate,"dd.mm.yyyy")," г.") -> към 31.12.2025 г.
F7: (в хил.лева)
A8: Наименование и седалище на предприятията, в които са инвестициите | B8: Код на реда | C8: Размер на инвестицията | D8: Процент на инвестицията в капитала на другото предприятие | E8: Инвестиция в ценни книжа, приети за търговия на фондова борса | F8: Инвестиция в ценни книжа, неприети за търговия на фондова борса
A9: а | B9: б | C9: 1 | D9: 2 | E9: 3 | F9: 4
A10: А. В СТРАНАТА
A11: I. Инвестиции в дъщерни предприятия
A12: 1 | F12: =C12-E12 -> 0
A13: 2 | F13: =C13-E13 -> 0
A14: 3 | F14: =C14-E14 -> 0
A15: 4 | F15: =C15-E15 -> 0
A16: 5 | F16: =C16-E16 -> 0
A17: 6 | F17: =C17-E17 -> 0
A18: 7 | F18: =C18-E18 -> 0
A19: 8 | F19: =C19-E19 -> 0
A20: 9 | F20: =C20-E20 -> 0
A21: 10 | F21: =C21-E21 -> 0
A22: 11 | F22: =C22-E22 -> 0
A23: 12 | F23: =C23-E23 -> 0
... A26: 15 | F26: =C26-E26 -> 0
A27: Обща сума I: | B27: 8-4001 | C27: =SUM(C12:C26) -> 0 | E27: =SUM(E12:E26) -> 0 | F27: =SUM(F12:F26) -> 0
A28: II. Инвестиции в смесени предприятия
A29: 1 | F29: =C29-E29 -> 0
A30: 2 | F30: =C30-E30 -> 0
A31: 3 | F31: =C31-E31 -> 0
A32: 4 | F32: =C32-E32 -> 0
A33: 5 | F33: =C33-E33 -> 0
A34: 6 | F34: =C34-E34 -> 0
A35: 7 | F35: =C35-E35 -> 0
A36: 8 | F36: =C36-E36 -> 0
A37: 9 | F37: =C37-E37 -> 0
A38: 10 | F38: =C38-E38 -> 0
A39: 11 | F39: =C39-E39 -> 0
A40: 12 | F40: =C40-E40 -> 0
... A43: 15 | F43: =C43-E43 -> 0
A44: Обща сума II: | B44: 8-4006 | C44: =SUM(C29:C43) -> 0 | E44: =SUM(E29:E43) -> 0 | F44: =SUM(F29:F43) -> 0
A45: III. Инвестиции в асоциирани предприятия
A46: 1 | F46: =C46-E46 -> 0
...

Sheet Контроли
A1: ФОРМАЛЕН КОНТРОЛ
A2: =CONCATENATE("на информацията, въведена в справките на ",UPPER(pdeName)) -> на информацията, въведена в справките на "ЕМКА" АД
A3: =CONCATENATE("за периода от ",TEXT(startDate,"dd.mm.yyyy г.")," до ",TEXT(endDate,"dd.mm.yyyy г.")) -> за периода от 01.01.2025 г. до 31.12.2025 г.
A5: Справка 1 | B5: Показател 1 | C5: Стойност 1 | D5: РАЗЛИКА | E5: Стойност 2 | F5: Показател 2 | G5: Справка 2
A6: [1-Баланс] | B6: Общо активи | C6: ='1-Баланс'!C95 -> 76188 | D6: =C6-E6 -> 0 | E6: ='1-Баланс'!G95 -> 76188 | F6: Собствен капитал и пасиви | G6: [1-Баланс]
A7: [1-Баланс] | B7: Собствен капитал | C7: ='1-Баланс'!G37 -> 72521 | D7: =C7-E7 -> 29122 | E7: ='1-Баланс'!G18 -> 43399 | F7: Основен капитал | G7: [1-Баланс]
A8: [1-Баланс] | B8: Текуща печалба/загуба | C8: =ABS('1-Баланс'!G32)-ABS('1-Баланс'!G33) -> 9996 | D8: =C8-E8 -> 0 | E8: =ABS('2-Отчет за доходите'!C44)-ABS('2-Отчет за доходите'!G44) -> 9996 | F8: Нетна печалба/загуба за периода | G8: [2-ОД]
A9: [1-Баланс] | B9: Парични средства (предходен период) | C9: ='1-Баланс'!D92 -> 30680 | D9: =C9-E9 -> 0 | E9: ='3-Отчет за паричния поток'!C45 -> 30680 | F9: Парични средства в началото на периода | G9: [3-ОПП]
A10: [1-Баланс] | B10: Парични средства (текущ период) | C10: ='1-Баланс'!C92 -> 25577 | D10: =C10-E10 -> 0 | E10: ='3-Отчет за паричния поток'!C46 -> 25577 | F10: Парични средства в края на периода | G10: [3-ОПП]
A11: [1-Баланс] | B11: Собствен капитал | C11: ='1-Баланс'!G37 -> 72521 | D11: =C11-E11 -> 0 | E11: ='4-Отчет за собствения капитал'!L34 -> 72521 | F11: Собствен капитал към края на отчетния период | G11: [4-ОСК]
A12: [1-Баланс] | B12: Нетекущи инвестиции в дъщерни предприятия | C12: ='1-Баланс'!C36 -> 0 | D12: =C12-E12 -> 0 | E12: ='Справка 5'!C27+'Справка 5'!C97 -> 0 | F12: Инвестиции в дъщерни предприятия | G12: [Справка 5]
A13: [1-Баланс] | B13: Нетекущи инвестиции в смесени предприятия | C13: ='1-Баланс'!C37 -> 0 | D13: =C13-E13 -> 0 | E13: ='Справка 5'!C44+'Справка 5'!C114 -> 0 | F13: Инвестиции в смесени предприятия | G13: [Справка 5]
A14: [1-Баланс] | B14: Нетекущи инвестиции в асоциирани предприятия | C14: ='1-Баланс'!C38 -> 0 | D14: =C14-E14 -> 0 | E14: ='Справка 5'!C61+'Справка 5'!C131 -> 0 | F14: Инвестиции в асоциирани предприятия | G14: [Справка 5]
A15: [1-Баланс] | B15: Нетекущи инвестиции в други предприятия | C15: ='1-Баланс'!C39 -> 805 | D15: =C15-E15 -> 0 | E15: ='Справка 5'!C148+'Справка 5'!C78 -> 805 | F15: Инвестиции в други предприятия | G15: [Справка 5]

Sheet Показатели
A1: # | B1: Показател | C1: Коефициент | D1: Стойност
A2: Показатели за рентабилност
A3: 1 | B3: Рентабилност на приходите от продажби | C3: Финансов резултат / Нетни приходи от продажби | D3: =(ABS('1-Баланс'!G32)-ABS('1-Баланс'!G33))/'2-Отчет за доходите'!G16 -> 0.05953792
A4: 2 | B4: Рентабилност на собствения капитал (ROE) | C4: Финансов резултат / Собствен капитал | D4: =(ABS('1-Баланс'!G32)-ABS('1-Баланс'!G33))/'1-Баланс'!G37 -> 0.13783594
A5: 3 | B5: Рентабилност на пасивите | C5: Финансов резултат / Пасиви | D5: =(ABS('1-Баланс'!G32)-ABS('1-Баланс'!G33))/('1-Баланс'!G56+'1-Баланс'!G79) -> 2.725934
A6: 4 | B6: Рентабилност на активите (ROA) | C6: Финансов резултат / Активи | D6: =(ABS('1-Баланс'!G32)-ABS('1-Баланс'!G33))/('1-Баланс'!C95) -> 0.13120176
A7: Показатели за ефективност
A8: 5 | B8: Ефективност на разходите | C8: Приходи / Разходи | D8: ='2-Отчет за доходите'!G36/'2-Отчет за доходите'!C36 -> 1.0630937
A9: Показатели за ликвидност
A10: 6 | B10: Обща ликвидност | C10: Текущи активи / Текущи пасиви | D10: ='1-Баланс'!C94/'1-Баланс'!G79 -> 24.718651
A11: 7 | B11: Бърза ликвидност | C11: (Краткосрочни вземания + Краткосрочни инвестиции + Парични средства) / Текущи пасиви | D11: =('1-Баланс'!C76+'1-Баланс'!C85+'1-Баланс'!C92)/'1-Баланс'!G79 -> 19.655159
A12: 8 | B12: Незабавна ликвидност | C12: (Краткосрочни инвестиции + Парични средства) / Текущи пасиви | D12: =('1-Баланс'!C85+'1-Баланс'!C92)/'1-Баланс'!G79 -> 10.149603
A13: 9 | B13: Абсолютна ликвидност | C13: Парични средства / Текущи пасиви | D13: ='1-Баланс'!C92/'1-Баланс'!G79 -> 10.149603
A14: Обръщаемост на активите
A15: 10 | B15: Обръщаемост на материалните активи | C15: Нетни приходи от продажби / Материални активи | D15: ='2-Отчет за доходите'!G16/('1-Баланс'!C20+'1-Баланс'!C21+'1-Баланс'!C22+'1-Баланс'!C28+'1-Баланс'!C65) -> 6.557808
A16: 11 | B16: Обръщаемост на активите | C16: Нетни приходи от продажби / Общи активи | D16: ='2-Отчет за доходите'!G16/('1-Баланс'!C95) -> 2.2036672
A17: Финансов ливъридж (Задлъжнялост)
A18: 12 | B18: Капиталова структура | C18: Дългосрочен дълг / Сума на дългосрочното финансиране | D18: ='1-Баланс'!G56/('1-Баланс'!G37+'1-Баланс'!G56) -> 0.015569854
A19: 13 | B19: Дълг / Собствен капитал | C19: Текущи пасиви + Нетекущи пасиви / Собствен капитал | D19: =D4/D5 -> 0.050564664
A20: 14 | B20: Дълг / Активи | C20: Текущи пасиви + Нетекущи пасиви / Активи | D20: =D6/D5 -> 0.048130939
A21: 15 | B21: Оперативна печалба (EBIT) | C21: Печалба преди данъци + Р-ди за лихви | D21: ='2-Отчет за доходите'!C37+'2-Отчет за доходите'!C25 -> 9996
A22: 16 | B22: Възвръщаемост на собствения капитал чрез оперативната печалба (ROE using EBIT) | C22: Оперативна печалба / Собствен капитал | D22: =D21/'1-Баланс'!G37 -> 0.13783594
A23: 17 | B23: EBITDA margin | C23: Оперативна печалба + Амортизации / Приходи от дейността | D23: =(D21+'2-Отчет за доходите'!C14)/'2-Отчет за доходите'!G31 -> 0.070065963
A24: 18 | B24: Дълг / EBITDA | C24: Текущи пасиви + Нетекущи пасиви / EBITDA | D24: =('1-Баланс'!G56+'1-Баланс'!G79)/(D21+'2-Отчет за доходите'!C14) -> 0.31073638

Sheet Danni
A1: Наименование | B1: ЕИК | C1: Дата | D1: Код на ред | E1: Код на колона | F1: Индикатор | G1: Подиндикатор | H1: Сума | N1: На консолидирана основа
F2: Баланс
A3: =pdeName -> "ЕМКА" АД | B3: =pdeBulstat -> 107001173 | C3: =endDate -> 46022 | D3: 1-0011 | E3: 1 | F3: 1. Земи (терени ) | G3: Активи | H3: ='1-Баланс'!C12 -> 772
A4: =pdeName -> "ЕМКА" АД | B4: =pdeBulstat -> 107001173 | C4: =endDate -> 46022 | D4: 1-0012 | E4: 1 | F4: 2. Сгради и конструкции | G4: Активи | H4: ='1-Баланс'!C13 -> 3272
A5: =pdeName -> "ЕМКА" АД | B5: =pdeBulstat -> 107001173 | C5: =endDate -> 46022 | D5: 1-0013 | E5: 1 | F5: 3. Машини и оборудване | G5: Активи | H5: ='1-Баланс'!C14 -> 4343
A6: =pdeName -> "ЕМКА" АД | B6: =pdeBulstat -> 107001173 | C6: =endDate -> 46022 | D6: 1-0014 | E6: 1 | F6: 4. Съоръжения | G6: Активи | H6: ='1-Баланс'!C15 -> 3042
A7: =pdeName -> "ЕМКА" АД | B7: =pdeBulstat -> 107001173 | C7: =endDate -> 46022 | D7: 1-0015 | E7: 1 | F7: 5. Транспортни средства | G7: Активи | H7: ='1-Баланс'!C16 -> 84
A8: =pdeName -> "ЕМКА" АД | B8: =pdeBulstat -> 107001173 | C8: =endDate -> 46022 | D8: 1-0017-1 | E8: 1 | F8: 6. Стопански инвентар | G8: Активи | H8: ='1-Баланс'!C17 -> 63
A9: =pdeName -> "ЕМКА" АД | B9: =pdeBulstat -> 107001173 | C9: =endDate -> 46022 | D9: 1-0018 | E9: 1 | F9: 7. Разходи за придобиване и ликвидация на дълготрайни материални активи | G9: Активи | H9: ='1-Баланс'!C18 -> 903
A10: =pdeName -> "ЕМКА" АД | B10: =pdeBulstat -> 107001173 | C10: =endDate -> 46022 | D10: 1-0017 | E10: 1 | F10: 8. Други | G10: Активи | H10: ='1-Баланс'!C19 -> 159
A11: =pdeName -> "ЕМКА" АД | B11: =pdeBulstat -> 107001173 | C11: =endDate -> 46022 | D11: 1-0010 | E11: 1 | F11: I. Имоти, машини, съоръжения и оборудване | G11: Активи | H11: ='1-Баланс'!C20 -> 12638
A12: =pdeName -> "ЕМКА" АД | B12: =pdeBulstat -> 107001173 | C12: =endDate -> 46022 | D12: 1-0041 | E12: 1 | F12: II. Инвестиционни имоти | G12: Активи | H12: ='1-Баланс'!C21 -> 187
A13: =pdeName -> "ЕМКА" АД | B13: =pdeBulstat -> 107001173 | C13: =endDate -> 46022 | D13: 1-0016 | E13: 1 | F13: III. Биологични активи | G13: Активи | H13: ='1-Баланс'!C22 -> 0
A14: =pdeName -> "ЕМКА" АД | B14: =pdeBulstat -> 107001173 | C14: =endDate -> 46022 | D14: 1-0021 | E14: 1 | F14: 1. Права върху собственост | G14: Активи | H14: ='1-Баланс'!C24 -> 0
A15: =pdeName -> "ЕМКА" АД | B15: =pdeBulstat -> 107001173 | C15: =endDate -> 46022 | D15: 1-0022 | E15: 1 | F15: 2. Програмни продукти | G15: Активи | H15: ='1-Баланс'!C25 -> 119
A16: =pdeName -> "ЕМКА" АД | B16: =pdeBulstat -> 107001173 | C16: =endDate -> 46022 | D16: 1-0023 | E16: 1 | F16: 3. Продукти от развойна дейност | G16: Активи | H16: ='1-Баланс'!C26 -> 0
A17: =pdeName -> "ЕМКА" АД | B17: =pdeBulstat -> 107001173 | C17: =endDate -> 46022 | D17: 1-0024 | E17: 1 | F17: 4. Други | G17: Активи | H17: ='1-Баланс'!C27 -> 12
A18: =pdeName -> "ЕМКА" АД | B18: =pdeBulstat -> 107001173 | C18: =endDate -> 46022 | D18: 1-0020 | E18: 1 | F18: IV. Нематериални активи | G18: Активи | H18: ='1-Баланс'!C28 -> 131
A19: =pdeName -> "ЕМКА" АД | B19: =pdeBulstat -> 107001173 | C19: =endDate -> 46022 | D19: 1-0051 | E19: 1 | F19: 1. Положителна репутация | G19: Активи | H19: ='1-Баланс'!C31 -> 0
A20: =pdeName -> "ЕМКА" АД | B20: =pdeBulstat -> 107001173 | C20: =endDate -> 46022 | D20: 1-0052 | E20: 1 | F20: 2. Отрицателна репутация | G20: Активи | H20: ='1-Баланс'!C32 -> 0
A21: =pdeName -> "ЕМКА" АД | B21: =pdeBulstat -> 107001173 | C21: =endDate -> 46022 | D21: 1-0050 | E21: 1 | F21: V. Търговска репутация | G21: Активи | H21: ='1-Баланс'!C33 -> 0
A22: =pdeName -> "ЕМКА" АД | B22: =pdeBulstat -> 107001173 | C22: =endDate -> 46022 | D22: 1-0031 | E22: 1 | F22: 1. Инвестиции в: | G22: Активи | H22: ='1-Баланс'!C35 -> 805
A23: =pdeName -> "ЕМКА" АД | B23: =pdeBulstat -> 107001173 | C23: =endDate -> 46022 | D23: 1-0032 | E23: 1 | F23: дъщерни предприятия | G23: Активи | H23: ='1-Баланс'!C36 -> 0
A24: =pdeName -> "ЕМКА" АД | B24: =pdeBulstat -> 107001173 | C24: =endDate -> 46022 | D24: 1-0033 | E24: 1 | F24: смесени предприятия | G24: Активи | H24: ='1-Баланс'!C37 -> 0
A25: =pdeName -> "ЕМКА" АД | B25: =pdeBulstat -> 107001173 | C25: =endDate -> 46022 | D25: 1-0034 | E25: 1 | F25: асоциирани предприятия | G25: Активи | H25: ='1-Баланс'!C38 -> 0
A26: =pdeName -> "ЕМКА" АД | B26: =pdeBulstat -> 107001173 | C26: =endDate -> 46022 | D26: 1-0035 | E26: 1 | F26: други предприятия | G26: Активи | H26: ='1-Баланс'!C39 -> 805
A27: =pdeName -> "ЕМКА" АД | B27: =pdeBulstat -> 107001173 | C27: =endDate -> 46022 | D27: 1-0042 | E27: 1 | F27: 2. Държани до настъпване на падеж | G27: Активи | H27: ='1-Баланс'!C40 -> 0
A28: =pdeName -> "ЕМКА" АД | B28: =pdeBulstat -> 107001173 | C28: =endDate -> 46022 | D28: 1-0042-1 | E28: 1 | F28: държавни ценни книжа | G28: Активи | H28: ='1-Баланс'!C41 -> 0
A29: =pdeName -> "ЕМКА" АД | B29: =pdeBulstat -> 107001173 | C29: =endDate -> 46022 | D29: 1-0042-2 | E29: 1 | F29: облигации, в т.ч.: | G29: Активи | H29: ='1-Баланс'!C42 -> 0
A30: =pdeName -> "ЕМКА" АД | B30: =pdeBulstat -> 107001173 | C30: =endDate -> 46022 | D30: 1-0042-3 | E30: 1 | F30: общински облигации | G30: Активи | H30: ='1-Баланс'!C43 -> 0
A31: =pdeName -> "ЕМКА" АД | B31: =pdeBulstat -> 107001173 | C31: =endDate -> 46022 | D31: 1-0042-4 | E31: 1 | F31: други инвестиции, държани до настъпване на падеж | G31: Активи | H31: ='1-Баланс'!C44 -> 0
A32: =pdeName -> "ЕМКА" АД | B32: =pdeBulstat -> 107001173 | C32: =endDate -> 46022 | D32: 1-0042-5 | E32: 1 | F32: 3. Други | G32: Активи | H32: ='1-Баланс'!C45 -> 0
A33: =pdeName -> "ЕМКА" АД | B33: =pdeBulstat -> 107001173 | C33: =endDate -> 46022 | D33: 1-0040 | E33: 1 | F33: Общо за група VI: | G33: Активи | H33: ='1-Баланс'!C46 -> 805
A34: =pdeName -> "ЕМКА" АД | B34: =pdeBulstat -> 107001173 | C34: =endDate -> 46022 | D34: 1-0044 | E34: 1 | F34: 1. Вземания от свързани предприятия | G34: Активи | H34: ='1-Баланс'!C48 -> 0
A35: =pdeName -> "ЕМКА" АД | B35: =pdeBulstat -> 107001173 | C35: =endDate -> 46022 | D35: 1-0045 | E35: 1 | F35: 2. Вземания по търговски заеми | G35: Активи | H35: ='1-Баланс'!C49 -> 0
A36: =pdeName -> "ЕМКА" АД | B36: =pdeBulstat -> 107001173 | C36: =endDate -> 46022 | D36: 1-0046-1 | E36: 1 | F36: 3. Вземания по финансов лизинг | G36: Активи | H36: ='1-Баланс'!C50 -> 0
A37: =pdeName -> "ЕМКА" АД | B37: =pdeBulstat -> 107001173 | C37: =endDate -> 46022 | D37: 1-0046 | E37: 1 | F37: 4. Други | G37: Активи | H37: ='1-Баланс'!C51 -> 0
A38: =pdeName -> "ЕМКА" АД | B38: =pdeBulstat -> 107001173 | C38: =endDate -> 46022 | D38: 1-0040-1 | E38: 1 | F38: VI. Финансови активи | G38: Активи | H38: ='1-Баланс'!C52 -> 0
A39: =pdeName -> "ЕМКА" АД | B39: =pdeBulstat -> 107001173 | C39: =endDate -> 46022 | D39: 1-0060 | E39: 1 | F39: VIII. Разходи за бъдещи периоди | G39: Активи | H39: ='1-Баланс'!C54 -> 0
A40: =pdeName -> "ЕМКА" АД | B40: =pdeBulstat -> 107001173 | C40: =endDate -> 46022 | D40: 1-0060-1 | E40: 1 | F40: IX. Активи по отсрочени данъци | G40: Активи | H40: ='1-Баланс'!C55 -> 136
...

Sheet Nomenklaturi
A1: на консолидирана основа
A2: на индивидуална основа
A5: Публично дружество
A6: Емитент на облигации
A7: Публично дружество/Емитент на облигации
A8: АДСИЦ
A9: Лице по §1д от ЗППЦК
A11: Акции
A12: Облигации
A13: Други
